BEGIN:VCALENDAR
VERSION:2.0
PRODID:-//Chor an St Peter und Paul Rauenberg - ECPv6.3.4//NONSGML v1.0//EN
CALSCALE:GREGORIAN
METHOD:PUBLISH
X-WR-CALNAME:Chor an St Peter und Paul Rauenberg
X-ORIGINAL-URL:https://chor-an-st-peter-und-paul.de
X-WR-CALDESC:Veranstaltungen für Chor an St Peter und Paul Rauenberg
REFRESH-INTERVAL;VALUE=DURATION:PT1H
X-Robots-Tag:noindex
X-PUBLISHED-TTL:PT1H
BEGIN:VTIMEZONE
TZID:UTC
BEGIN:STANDARD
TZOFFSETFROM:+0000
TZOFFSETTO:+0000
TZNAME:UTC
DTSTART:20260101T000000
END:STANDARD
END:VTIMEZONE
BEGIN:VEVENT
DTSTART;TZID=UTC:20260104T170000
DTEND;TZID=UTC:20260104T180000
DTSTAMP:20260424T082928
CREATED:20241122T225007Z
LAST-MODIFIED:20251217T193210Z
UID:1993-1767546000-1767549600@chor-an-st-peter-und-paul.de
SUMMARY:Rauenberger Abendmusik: Festliches Konzert zum Neuen Jahr mit Pauken und Trompeten
DESCRIPTION:Festliches Konzert zum Neuen Jahr mit Pauken und Trompeten\nDie Tradition der beliebten Neujahrskonzerte in der Pfarrkirche St. Peter und Paul Rauenberg wird auch 2026 weitergeführt: Am ersten Sonntag des neuen Jahres\, am Sonntag\, 4. 1. 2026 um 17 Uhr wird es glanzvolle Musik zum Jahreswechsel geben. Berühmte Werke von Bach\, Purcell\, Charpentier und anderer Barockkomponisten werden erklingen\, aber auch beliebte Werke moderner Komponisten. Der Trompetenvirtuose Benedikt Scherrer spielt auf der Barocktrompete\, der Trompete und dem Flügelhorn\, Ulrich Dürr schlägt die Pauken\, und Professor Franz Wassermann spielt die Große Orgel der Rauenberger Kirche. \nErfreulicherweise ist der Eintritt frei\, doch Spenden werden keinesfalls zurückgewiesen. \nGenießen Sie den strahlenden Bläserklang\, die Wucht der Pauken und die Majestät der Orgel! \nPlakat zum Herunterladen: MIT PAUKEN UND TROMPETEN_A3_2026
URL:https://chor-an-st-peter-und-paul.de/event/festliches-konzert-zum-neuen-jahr-mit-pauken-und-trompeten/
LOCATION:Pfarrkirche St. Peter und Paul Rauenberg\, Wieslocher Str. 8\, Rauenberg\, 69231
CATEGORIES:Konzerte,Rauenberger Abendmusik,Veranstaltung
ATTACH;FMTTYPE=image/jpeg:https://chor-an-st-peter-und-paul.de/wp-content/uploads/2023/12/1_Pauken-und-Trompeten_WassermannOrgel_1423-scaled.jpg
END:VEVENT
END:VCALENDAR