BEGIN:VCALENDAR
VERSION:2.0
PRODID:-//Chor an St Peter und Paul Rauenberg - ECPv6.3.4//NONSGML v1.0//EN
CALSCALE:GREGORIAN
METHOD:PUBLISH
X-WR-CALNAME:Chor an St Peter und Paul Rauenberg
X-ORIGINAL-URL:https://chor-an-st-peter-und-paul.de
X-WR-CALDESC:Veranstaltungen für Chor an St Peter und Paul Rauenberg
REFRESH-INTERVAL;VALUE=DURATION:PT1H
X-Robots-Tag:noindex
X-PUBLISHED-TTL:PT1H
BEGIN:VTIMEZONE
TZID:UTC
BEGIN:STANDARD
TZOFFSETFROM:+0000
TZOFFSETTO:+0000
TZNAME:UTC
DTSTART:20250101T000000
END:STANDARD
END:VTIMEZONE
BEGIN:VEVENT
DTSTART;TZID=UTC:20251008T110000
DTEND;TZID=UTC:20251008T113000
DTSTAMP:20260424T125036
CREATED:20250126T205144Z
LAST-MODIFIED:20250904T142344Z
UID:2077-1759921200-1759923000@chor-an-st-peter-und-paul.de
SUMMARY:Orgelmusik zur Marktzeit: Ausnahmsweise am zweiten Mittwoch des Monats
DESCRIPTION:
URL:https://chor-an-st-peter-und-paul.de/event/orgelmusik-zur-marktzeit-15/
LOCATION:Pfarrkirche St. Peter und Paul Rauenberg\, Wieslocher Str. 8\, Rauenberg\, 69231
CATEGORIES:Konzerte,Orgelmusik zur Marktzeit,Veranstaltung
ATTACH;FMTTYPE=image/jpeg:https://chor-an-st-peter-und-paul.de/wp-content/uploads/2023/05/Orgelmusik-zur-Marktzeit-16_9.jpg
END:VEVENT
BEGIN:VEVENT
DTSTART;TZID=UTC:20251020T193000
DTEND;TZID=UTC:20251020T204500
DTSTAMP:20260424T125036
CREATED:20251019T162617Z
LAST-MODIFIED:20251019T162617Z
UID:2313-1760988600-1760993100@chor-an-st-peter-und-paul.de
SUMMARY:Probe Gesamtchor
DESCRIPTION:
URL:https://chor-an-st-peter-und-paul.de/event/probe-gesamtchor-42/
LOCATION:Pfarrzentrum Rauenberg\, Hauptstr. 10\, Rauenberg\, 69231
CATEGORIES:Chorprobe,Gesamtchor
ATTACH;FMTTYPE=image/png:https://chor-an-st-peter-und-paul.de/wp-content/uploads/2023/04/6.png
END:VEVENT
BEGIN:VEVENT
DTSTART;TZID=UTC:20251020T204500
DTEND;TZID=UTC:20251020T214500
DTSTAMP:20260424T125036
CREATED:20251019T162757Z
LAST-MODIFIED:20251019T162757Z
UID:2315-1760993100-1760996700@chor-an-st-peter-und-paul.de
SUMMARY:Probe Kleiner Chor "Allegro"
DESCRIPTION:
URL:https://chor-an-st-peter-und-paul.de/event/probe-kleiner-chor-allegro-40/
LOCATION:Pfarrzentrum Rauenberg\, Hauptstr. 10\, Rauenberg\, 69231
CATEGORIES:Allegro,Chorprobe
ATTACH;FMTTYPE=image/png:https://chor-an-st-peter-und-paul.de/wp-content/uploads/2023/04/4-1.png
END:VEVENT
BEGIN:VEVENT
DTSTART;TZID=UTC:20251026T170000
DTEND;TZID=UTC:20251026T180000
DTSTAMP:20260424T125036
CREATED:20250126T212716Z
LAST-MODIFIED:20251017T200759Z
UID:2092-1761498000-1761501600@chor-an-st-peter-und-paul.de
SUMMARY:Rauenberger Abendmusik: Horn und Orgel
DESCRIPTION:Außergewöhnlich und wieder einmal faszinierend verspricht die nächste Rauenberger Abendmusik zu werden. Der warme\, raumfüllende Klang des Waldhorns verbindet sich mit der Strahlkraft der Orgel im Dom des Angelbachtals. Werke von Purcell\, Telemann\, Mozart und Komponisten der Romantik bieten dem Publikum eine vielfallt dieser Klangkombinationen. Die beiden Virtuosen\, Stefan Fellhauer\, Horn\, und Prof. Franz Wassermann\, Orgel\, freuen sich darauf\, Sie in diese besonderen Klangräume zu führen.
URL:https://chor-an-st-peter-und-paul.de/event/horn-und-orgel/
LOCATION:Pfarrkirche St. Peter und Paul Rauenberg\, Wieslocher Str. 8\, Rauenberg\, 69231
CATEGORIES:Konzerte,Rauenberger Abendmusik,Veranstaltung
ATTACH;FMTTYPE=image/jpeg:https://chor-an-st-peter-und-paul.de/wp-content/uploads/2025/01/Fotos-fuer-Website_zugeschnitten.jpg
END:VEVENT
BEGIN:VEVENT
DTSTART;TZID=UTC:20251027T193000
DTEND;TZID=UTC:20251027T204500
DTSTAMP:20260424T125036
CREATED:20251025T145014Z
LAST-MODIFIED:20251025T151815Z
UID:2317-1761593400-1761597900@chor-an-st-peter-und-paul.de
SUMMARY:Probe Gesamtchor
DESCRIPTION:„Orgelsolo-Messe“ von W.A. Mozart
URL:https://chor-an-st-peter-und-paul.de/event/chorprobe-gesamtchor-2/
LOCATION:Pfarrzentrum Rauenberg\, Hauptstr. 10\, Rauenberg\, 69231
CATEGORIES:Chorprobe,Gesamtchor
ATTACH;FMTTYPE=image/png:https://chor-an-st-peter-und-paul.de/wp-content/uploads/2023/04/6.png
END:VEVENT
BEGIN:VEVENT
DTSTART;TZID=UTC:20251027T204500
DTEND;TZID=UTC:20251027T214500
DTSTAMP:20260424T125036
CREATED:20251025T150154Z
LAST-MODIFIED:20251025T150154Z
UID:2329-1761597900-1761601500@chor-an-st-peter-und-paul.de
SUMMARY:Probe Kleiner Chor "Allegro"
DESCRIPTION:Weihnachtslieder aus aller Welt
URL:https://chor-an-st-peter-und-paul.de/event/probe-kleiner-chor-allegro-41/
LOCATION:Pfarrzentrum Rauenberg\, Hauptstr. 10\, Rauenberg\, 69231
CATEGORIES:Allegro,Chorprobe
ATTACH;FMTTYPE=image/png:https://chor-an-st-peter-und-paul.de/wp-content/uploads/2023/04/4-1.png
END:VEVENT
END:VCALENDAR