BEGIN:VCALENDAR
VERSION:2.0
PRODID:-//Chor an St Peter und Paul Rauenberg - ECPv6.3.4//NONSGML v1.0//EN
CALSCALE:GREGORIAN
METHOD:PUBLISH
X-WR-CALNAME:Chor an St Peter und Paul Rauenberg
X-ORIGINAL-URL:https://chor-an-st-peter-und-paul.de
X-WR-CALDESC:Veranstaltungen für Chor an St Peter und Paul Rauenberg
REFRESH-INTERVAL;VALUE=DURATION:PT1H
X-Robots-Tag:noindex
X-PUBLISHED-TTL:PT1H
BEGIN:VTIMEZONE
TZID:UTC
BEGIN:STANDARD
TZOFFSETFROM:+0000
TZOFFSETTO:+0000
TZNAME:UTC
DTSTART:20250101T000000
END:STANDARD
END:VTIMEZONE
BEGIN:VEVENT
DTSTART;TZID=UTC:20251102T090000
DTEND;TZID=UTC:20251102T100000
DTSTAMP:20260424T112254
CREATED:20251025T153308Z
LAST-MODIFIED:20251025T153308Z
UID:2354-1762074000-1762077600@chor-an-st-peter-und-paul.de
SUMMARY:Gottesdienst zu Allerheiligen
DESCRIPTION:Zu Allerheiligen gedenkt die Kirche aller Heiligen\, der bekannten und heilig gesprochenen als auch der Frauen und Männer\, die ihren Glauben gelebt und verteidigt haben. Für sie gibt es im Laufe des Jahres keinen besonderen Feiertag. Es gibt auch das „Martyrium des Alltags“ wie Abt Michael Reepen OSB schreibt\, Menschen\, die das Zeugnis Christi nachahmen und so selbst zu Zeugen der siegreichen Liebe Gottes werden. Für den Gottesdienst um 9 Uhr hat unser Dirigent Prof. Franz Wassermann Motetten für den Gesamtchor gewählt\, die der Intention dieses Tages entsprechen.
URL:https://chor-an-st-peter-und-paul.de/event/gottesdienst-zu-allerheiligen-3/
LOCATION:Pfarrkirche St. Peter und Paul Rauenberg\, Wieslocher Str. 8\, Rauenberg\, 69231
CATEGORIES:Gottesdienst
ATTACH;FMTTYPE=image/png:https://chor-an-st-peter-und-paul.de/wp-content/uploads/2023/10/Allerheiligen.png
END:VEVENT
BEGIN:VEVENT
DTSTART;TZID=UTC:20251103T193000
DTEND;TZID=UTC:20251103T204500
DTSTAMP:20260424T112254
CREATED:20251025T145215Z
LAST-MODIFIED:20251025T145216Z
UID:2319-1762198200-1762202700@chor-an-st-peter-und-paul.de
SUMMARY:Probe Gesamtchor
DESCRIPTION:„Orgelsolo-Messe“ von W.A. Mozart
URL:https://chor-an-st-peter-und-paul.de/event/probe-gesamtchor-43/
LOCATION:Pfarrzentrum Rauenberg\, Hauptstr. 10\, Rauenberg\, 69231
CATEGORIES:Chorprobe,Gesamtchor
ATTACH;FMTTYPE=image/png:https://chor-an-st-peter-und-paul.de/wp-content/uploads/2023/04/6.png
END:VEVENT
BEGIN:VEVENT
DTSTART;TZID=UTC:20251103T204500
DTEND;TZID=UTC:20251103T214500
DTSTAMP:20260424T112254
CREATED:20251025T150320Z
LAST-MODIFIED:20251025T150320Z
UID:2331-1762202700-1762206300@chor-an-st-peter-und-paul.de
SUMMARY:Probe Kleiner Chor "Allegro"
DESCRIPTION:Weihnachtslieder aus aller Welt
URL:https://chor-an-st-peter-und-paul.de/event/probe-kleiner-chor-allegro-42/
LOCATION:Pfarrzentrum Rauenberg\, Hauptstr. 10\, Rauenberg\, 69231
CATEGORIES:Allegro,Chorprobe
ATTACH;FMTTYPE=image/png:https://chor-an-st-peter-und-paul.de/wp-content/uploads/2023/04/4-1.png
END:VEVENT
BEGIN:VEVENT
DTSTART;TZID=UTC:20251105T110000
DTEND;TZID=UTC:20251105T113000
DTSTAMP:20260424T112254
CREATED:20250126T205629Z
LAST-MODIFIED:20250126T205629Z
UID:2079-1762340400-1762342200@chor-an-st-peter-und-paul.de
SUMMARY:Orgelmusik zur Marktzeit
DESCRIPTION:
URL:https://chor-an-st-peter-und-paul.de/event/orgelmusik-zur-marktzeit-16/
LOCATION:Pfarrkirche St. Peter und Paul Rauenberg\, Wieslocher Str. 8\, Rauenberg\, 69231
CATEGORIES:Orgelmusik zur Marktzeit,Veranstaltung
ATTACH;FMTTYPE=image/jpeg:https://chor-an-st-peter-und-paul.de/wp-content/uploads/2023/05/Orgelmusik-zur-Marktzeit-16_9.jpg
END:VEVENT
BEGIN:VEVENT
DTSTART;TZID=UTC:20251110T193000
DTEND;TZID=UTC:20251110T204500
DTSTAMP:20260424T112255
CREATED:20251025T145336Z
LAST-MODIFIED:20251025T145336Z
UID:2321-1762803000-1762807500@chor-an-st-peter-und-paul.de
SUMMARY:Probe Gesamtchor
DESCRIPTION:„Orgelsolo-Messe“ von W.A. Mozart
URL:https://chor-an-st-peter-und-paul.de/event/probe-gesamtchor-44/
LOCATION:Pfarrzentrum Rauenberg\, Hauptstr. 10\, Rauenberg\, 69231
CATEGORIES:Chorprobe,Gesamtchor
ATTACH;FMTTYPE=image/png:https://chor-an-st-peter-und-paul.de/wp-content/uploads/2023/04/6.png
END:VEVENT
BEGIN:VEVENT
DTSTART;TZID=UTC:20251110T204500
DTEND;TZID=UTC:20251110T214500
DTSTAMP:20260424T112255
CREATED:20251025T150524Z
LAST-MODIFIED:20251025T150524Z
UID:2333-1762807500-1762811100@chor-an-st-peter-und-paul.de
SUMMARY:Probe Kleiner Chor "Allegro"
DESCRIPTION:Weihnachtslieder aus aller Welt
URL:https://chor-an-st-peter-und-paul.de/event/probe-kleiner-chor-allegro-43/
LOCATION:Pfarrzentrum Rauenberg\, Hauptstr. 10\, Rauenberg\, 69231
CATEGORIES:Allegro,Chorprobe
ATTACH;FMTTYPE=image/png:https://chor-an-st-peter-und-paul.de/wp-content/uploads/2023/04/4-1.png
END:VEVENT
BEGIN:VEVENT
DTSTART;TZID=UTC:20251117T193000
DTEND;TZID=UTC:20251117T204500
DTSTAMP:20260424T112255
CREATED:20251025T145458Z
LAST-MODIFIED:20251025T145458Z
UID:2323-1763407800-1763412300@chor-an-st-peter-und-paul.de
SUMMARY:Probe Gesamtchor
DESCRIPTION:„Orgelsolo-Messe“ von W.A. Mozart
URL:https://chor-an-st-peter-und-paul.de/event/probe-gesamtchor-45/
LOCATION:Pfarrzentrum Rauenberg\, Hauptstr. 10\, Rauenberg\, 69231
CATEGORIES:Chorprobe,Gesamtchor
ATTACH;FMTTYPE=image/png:https://chor-an-st-peter-und-paul.de/wp-content/uploads/2023/04/6.png
END:VEVENT
BEGIN:VEVENT
DTSTART;TZID=UTC:20251117T204500
DTEND;TZID=UTC:20251117T214500
DTSTAMP:20260424T112255
CREATED:20251025T150810Z
LAST-MODIFIED:20251025T150810Z
UID:2335-1763412300-1763415900@chor-an-st-peter-und-paul.de
SUMMARY:Probe Kleiner Chor "Allegro"
DESCRIPTION:Weihnachtslieder aus aller Welt
URL:https://chor-an-st-peter-und-paul.de/event/probe-kleiner-chor-allegro-44/
LOCATION:Pfarrzentrum Rauenberg\, Hauptstr. 10\, Rauenberg\, 69231
CATEGORIES:Allegro,Chorprobe
ATTACH;FMTTYPE=image/png:https://chor-an-st-peter-und-paul.de/wp-content/uploads/2023/04/4-1.png
END:VEVENT
BEGIN:VEVENT
DTSTART;TZID=UTC:20251122T183000
DTEND;TZID=UTC:20251122T193000
DTSTAMP:20260424T112255
CREATED:20250130T095931Z
LAST-MODIFIED:20251025T152559Z
UID:2116-1763836200-1763839800@chor-an-st-peter-und-paul.de
SUMMARY:Gottesdienst zu Ehren der hl. Cäcilia
DESCRIPTION:Der Patronin der Kirchenmusik zu Ehren und im Gedenken an unsere verstorbenen aktiven und passiven Mitglieder während des vergangenen Vereinsjahrs\, singt der Chor im Gottesdienst Motetten aus verschiedenen Jahrhunderten unter dem Dirigat von Prof Franz Wassermann. Es würde uns freuen\, wenn die Angehörigen ihre Kerzen mitbringen und auf dem Altar abstellen\, als Zeichen der Verbundenheit mit den Heimgegangenen. \nAußerdem freuen wir uns\, in diesem Abendgottesdienst eine Sängerin im Namen des Chores und des Cäcilienverbandes für 25 Jahre Singen in unserem Chor zu ehren.
URL:https://chor-an-st-peter-und-paul.de/event/gottesdienst-zu-christkoenig-2/
LOCATION:Pfarrkirche St. Peter und Paul Rauenberg\, Wieslocher Str. 8\, Rauenberg\, 69231
CATEGORIES:Gottesdienst
ATTACH;FMTTYPE=image/png:https://chor-an-st-peter-und-paul.de/wp-content/uploads/2023/10/Hl-Caecilia.png
END:VEVENT
BEGIN:VEVENT
DTSTART;TZID=UTC:20251124T193000
DTEND;TZID=UTC:20251124T204500
DTSTAMP:20260424T112255
CREATED:20251025T145616Z
LAST-MODIFIED:20251025T145616Z
UID:2325-1764012600-1764017100@chor-an-st-peter-und-paul.de
SUMMARY:Probe Gesamtchor
DESCRIPTION:„Orgelsolo-Messe“ von W.A. Mozart
URL:https://chor-an-st-peter-und-paul.de/event/probe-gesamtchor-46/
LOCATION:Pfarrzentrum Rauenberg\, Hauptstr. 10\, Rauenberg\, 69231
CATEGORIES:Chorprobe,Gesamtchor
ATTACH;FMTTYPE=image/png:https://chor-an-st-peter-und-paul.de/wp-content/uploads/2023/04/6.png
END:VEVENT
BEGIN:VEVENT
DTSTART;TZID=UTC:20251124T204500
DTEND;TZID=UTC:20251124T214500
DTSTAMP:20260424T112255
CREATED:20251025T150925Z
LAST-MODIFIED:20251025T150926Z
UID:2337-1764017100-1764020700@chor-an-st-peter-und-paul.de
SUMMARY:Probe Kleiner Chor "Allegro"
DESCRIPTION:Weihnachtslieder aus aller Welt
URL:https://chor-an-st-peter-und-paul.de/event/probe-kleiner-chor-allegro-45/
LOCATION:Pfarrzentrum Rauenberg\, Hauptstr. 10\, Rauenberg\, 69231
CATEGORIES:Allegro,Chorprobe
ATTACH;FMTTYPE=image/png:https://chor-an-st-peter-und-paul.de/wp-content/uploads/2023/04/4-1.png
END:VEVENT
END:VCALENDAR