BEGIN:VCALENDAR
VERSION:2.0
PRODID:-//Chor an St Peter und Paul Rauenberg - ECPv6.3.4//NONSGML v1.0//EN
CALSCALE:GREGORIAN
METHOD:PUBLISH
X-WR-CALNAME:Chor an St Peter und Paul Rauenberg
X-ORIGINAL-URL:https://chor-an-st-peter-und-paul.de
X-WR-CALDESC:Veranstaltungen für Chor an St Peter und Paul Rauenberg
REFRESH-INTERVAL;VALUE=DURATION:PT1H
X-Robots-Tag:noindex
X-PUBLISHED-TTL:PT1H
BEGIN:VTIMEZONE
TZID:UTC
BEGIN:STANDARD
TZOFFSETFROM:+0000
TZOFFSETTO:+0000
TZNAME:UTC
DTSTART:20250101T000000
END:STANDARD
END:VTIMEZONE
BEGIN:VEVENT
DTSTART;TZID=UTC:20251201T193000
DTEND;TZID=UTC:20251201T204500
DTSTAMP:20260424T083002
CREATED:20251025T145736Z
LAST-MODIFIED:20251025T150017Z
UID:2327-1764617400-1764621900@chor-an-st-peter-und-paul.de
SUMMARY:Probe Gesamtchor
DESCRIPTION:„Orgelsolo-Messe“ von W.A. Mozart
URL:https://chor-an-st-peter-und-paul.de/event/probe-gesamtchor-47/
LOCATION:Pfarrzentrum Rauenberg\, Hauptstr. 10\, Rauenberg\, 69231
CATEGORIES:Chorprobe,Gesamtchor
ATTACH;FMTTYPE=image/png:https://chor-an-st-peter-und-paul.de/wp-content/uploads/2023/04/6.png
END:VEVENT
BEGIN:VEVENT
DTSTART;TZID=UTC:20251201T204500
DTEND;TZID=UTC:20251201T214500
DTSTAMP:20260424T083002
CREATED:20251025T151143Z
LAST-MODIFIED:20251025T151143Z
UID:2339-1764621900-1764625500@chor-an-st-peter-und-paul.de
SUMMARY:Probe Kleiner Chor "Allegro"
DESCRIPTION:Weihnachtslieder aus aller Welt
URL:https://chor-an-st-peter-und-paul.de/event/probe-kleiner-chor-allegro-46/
LOCATION:Pfarrzentrum Rauenberg\, Hauptstr. 10\, Rauenberg\, 69231
CATEGORIES:Allegro,Chorprobe
ATTACH;FMTTYPE=image/png:https://chor-an-st-peter-und-paul.de/wp-content/uploads/2023/04/4-1.png
END:VEVENT
BEGIN:VEVENT
DTSTART;TZID=UTC:20251203T110000
DTEND;TZID=UTC:20251203T113000
DTSTAMP:20260424T083003
CREATED:20250126T205811Z
LAST-MODIFIED:20250130T091039Z
UID:2081-1764759600-1764761400@chor-an-st-peter-und-paul.de
SUMMARY:Orgelmusik zur Marktzeit
DESCRIPTION:
URL:https://chor-an-st-peter-und-paul.de/event/orgelmusik-zur-marktzeit-17/
LOCATION:Pfarrkirche St. Peter und Paul Rauenberg\, Wieslocher Str. 8\, Rauenberg\, 69231
CATEGORIES:Orgelmusik zur Marktzeit,Veranstaltung
ATTACH;FMTTYPE=image/jpeg:https://chor-an-st-peter-und-paul.de/wp-content/uploads/2023/05/Orgelmusik-zur-Marktzeit-16_9.jpg
END:VEVENT
BEGIN:VEVENT
DTSTART;TZID=UTC:20251208T193000
DTEND;TZID=UTC:20251208T214500
DTSTAMP:20260424T083003
CREATED:20251025T152211Z
LAST-MODIFIED:20251025T160349Z
UID:2350-1765222200-1765230300@chor-an-st-peter-und-paul.de
SUMMARY:Probe Gesamtchor
DESCRIPTION:verkürzte Chorprobe mit anschließender Nikolausfeier
URL:https://chor-an-st-peter-und-paul.de/event/probe-gesamtchor-50/
LOCATION:Pfarrzentrum Rauenberg\, Hauptstr. 10\, Rauenberg\, 69231
CATEGORIES:Chorprobe,Gesamtchor
ATTACH;FMTTYPE=image/jpeg:https://chor-an-st-peter-und-paul.de/wp-content/uploads/2025/10/Chorprobe-mit-Nikolausfeier.jpg
END:VEVENT
BEGIN:VEVENT
DTSTART;TZID=UTC:20251213T170000
DTEND;TZID=UTC:20251213T180000
DTSTAMP:20260424T083004
CREATED:20250126T213400Z
LAST-MODIFIED:20251204T212217Z
UID:2094-1765645200-1765648800@chor-an-st-peter-und-paul.de
SUMMARY:Rauenberger Abendmusik: Weihnachten in Europa mit Solisten\, Chor und Instrumenten
DESCRIPTION:Clara Beckett\, Sopran\nAnnette Blatz-Braun\, Sopran\nFelix Haberland\, Tenor\nDr. Uwe Schroeder-Wildberg\, Bassbariton\nChöre der Capella Carolina der Universität Heidelberg\nInstrumentalisten\nLeitung: Prof. Franz Wassermann
URL:https://chor-an-st-peter-und-paul.de/event/weihnachtliche-musik-fuer-solisten-chor-und-instrumente/
LOCATION:Pfarrkirche St. Peter und Paul Rauenberg\, Wieslocher Str. 8\, Rauenberg\, 69231
CATEGORIES:Konzerte,Rauenberger Abendmusik,Veranstaltung
ATTACH;FMTTYPE=image/jpeg:https://chor-an-st-peter-und-paul.de/wp-content/uploads/2025/01/RA-Weihnachen-2025-1-scaled.jpg
END:VEVENT
BEGIN:VEVENT
DTSTART;TZID=UTC:20251215T193000
DTEND;TZID=UTC:20251215T204500
DTSTAMP:20260424T083004
CREATED:20251025T151610Z
LAST-MODIFIED:20251025T151610Z
UID:2345-1765827000-1765831500@chor-an-st-peter-und-paul.de
SUMMARY:Probe Gesamtchor
DESCRIPTION:„Orgelsolo-Messe“ von W.A. Mozart
URL:https://chor-an-st-peter-und-paul.de/event/probe-gesamtchor-48/
LOCATION:Pfarrzentrum Rauenberg\, Hauptstr. 10\, Rauenberg\, 69231
CATEGORIES:Chorprobe,Gesamtchor
ATTACH;FMTTYPE=image/png:https://chor-an-st-peter-und-paul.de/wp-content/uploads/2023/04/6.png
END:VEVENT
BEGIN:VEVENT
DTSTART;TZID=UTC:20251215T204500
DTEND;TZID=UTC:20251215T214500
DTSTAMP:20260424T083004
CREATED:20251025T151303Z
LAST-MODIFIED:20251025T151303Z
UID:2341-1765831500-1765835100@chor-an-st-peter-und-paul.de
SUMMARY:Probe Kleiner Chor "Allegro"
DESCRIPTION:Weihnachtslieder aus aller Welt
URL:https://chor-an-st-peter-und-paul.de/event/probe-kleiner-chor-allegro-47/
LOCATION:Pfarrzentrum Rauenberg\, Hauptstr. 10\, Rauenberg\, 69231
CATEGORIES:Allegro,Chorprobe
ATTACH;FMTTYPE=image/png:https://chor-an-st-peter-und-paul.de/wp-content/uploads/2023/04/4-1.png
END:VEVENT
BEGIN:VEVENT
DTSTART;TZID=UTC:20251222T193000
DTEND;TZID=UTC:20251222T204500
DTSTAMP:20260424T083004
CREATED:20251025T151723Z
LAST-MODIFIED:20251025T151724Z
UID:2347-1766431800-1766436300@chor-an-st-peter-und-paul.de
SUMMARY:Probe Gesamtchor
DESCRIPTION:„Orgelsolo-Messe“ von W.A. Mozart
URL:https://chor-an-st-peter-und-paul.de/event/probe-gesamtchor-49/
LOCATION:Pfarrzentrum Rauenberg\, Hauptstr. 10\, Rauenberg\, 69231
CATEGORIES:Chorprobe,Gesamtchor
ATTACH;FMTTYPE=image/png:https://chor-an-st-peter-und-paul.de/wp-content/uploads/2023/04/6.png
END:VEVENT
BEGIN:VEVENT
DTSTART;TZID=UTC:20251222T204500
DTEND;TZID=UTC:20251222T214500
DTSTAMP:20260424T083004
CREATED:20251025T151421Z
LAST-MODIFIED:20251025T151421Z
UID:2343-1766436300-1766439900@chor-an-st-peter-und-paul.de
SUMMARY:Probe Kleiner Chor "Allegro"
DESCRIPTION:Weihnachtslieder aus aller Welt
URL:https://chor-an-st-peter-und-paul.de/event/probe-kleiner-chor-allegro-48/
LOCATION:Pfarrzentrum Rauenberg\, Hauptstr. 10\, Rauenberg\, 69231
CATEGORIES:Allegro,Chorprobe
ATTACH;FMTTYPE=image/png:https://chor-an-st-peter-und-paul.de/wp-content/uploads/2023/04/4-1.png
END:VEVENT
BEGIN:VEVENT
DTSTART;TZID=UTC:20251224T220000
DTEND;TZID=UTC:20251224T230000
DTSTAMP:20260424T083004
CREATED:20250130T100514Z
LAST-MODIFIED:20250130T101122Z
UID:2121-1766613600-1766617200@chor-an-st-peter-und-paul.de
SUMMARY:Christmette
DESCRIPTION:Feier der Heiligen Nacht mit dem Allegro-Chor
URL:https://chor-an-st-peter-und-paul.de/event/gottesdienst-zu-heiligabend/
LOCATION:Pfarrkirche St. Peter und Paul Rauenberg\, Wieslocher Str. 8\, Rauenberg\, 69231
CATEGORIES:Gottesdienst
ATTACH;FMTTYPE=image/jpeg:https://chor-an-st-peter-und-paul.de/wp-content/uploads/2024/05/christmas-4709898_1280.jpg
END:VEVENT
BEGIN:VEVENT
DTSTART;TZID=UTC:20251226T103000
DTEND;TZID=UTC:20251226T113000
DTSTAMP:20260424T083004
CREATED:20250130T101606Z
LAST-MODIFIED:20251025T161249Z
UID:2125-1766745000-1766748600@chor-an-st-peter-und-paul.de
SUMMARY:2. Weihnachtstag
DESCRIPTION:„Orgelsolo-Messe“ von W.A. Mozart mit Chor\, Orchester\, Orgel und Solisten
URL:https://chor-an-st-peter-und-paul.de/event/2-weihnachtstag/
LOCATION:Pfarrkirche St. Peter und Paul Rauenberg\, Wieslocher Str. 8\, Rauenberg\, 69231
CATEGORIES:Gottesdienst
ATTACH;FMTTYPE=image/jpeg:https://chor-an-st-peter-und-paul.de/wp-content/uploads/2025/01/Orgelsolomesse_Weihnachten.jpg
END:VEVENT
END:VCALENDAR