BEGIN:VCALENDAR
VERSION:2.0
PRODID:-//Chor an St Peter und Paul Rauenberg - ECPv6.3.4//NONSGML v1.0//EN
CALSCALE:GREGORIAN
METHOD:PUBLISH
X-WR-CALNAME:Chor an St Peter und Paul Rauenberg
X-ORIGINAL-URL:https://chor-an-st-peter-und-paul.de
X-WR-CALDESC:Veranstaltungen für Chor an St Peter und Paul Rauenberg
REFRESH-INTERVAL;VALUE=DURATION:PT1H
X-Robots-Tag:noindex
X-PUBLISHED-TTL:PT1H
BEGIN:VTIMEZONE
TZID:UTC
BEGIN:STANDARD
TZOFFSETFROM:+0000
TZOFFSETTO:+0000
TZNAME:UTC
DTSTART:20260101T000000
END:STANDARD
END:VTIMEZONE
BEGIN:VEVENT
DTSTART;TZID=UTC:20260803T150000
DTEND;TZID=UTC:20260803T160000
DTSTAMP:20260424T095324
CREATED:20260104T130040Z
LAST-MODIFIED:20260104T130401Z
UID:2479-1785769200-1785772800@chor-an-st-peter-und-paul.de
SUMMARY:Orgelkonzert für große und kleine Leute: Der Katzenkrimi
DESCRIPTION:Orgelkonzert für große und kleine Leute: Der Katzenkrimi \nKommissar Rattratt findet im Kellerverlies des Zauberers Singsing die Indizien eines Mordes. Oben im Saal des Schlosses wird gefeiert\, allem Anschein nach handelt es sich um eine Hochzeitsfeier.  Die Königstochter vermählt sich mit einem Lumpenbauern\, na sowas! Und wo ist der Zauberer Singsing\, der Besitzer des Schlosses? \nDas alles ist höchst verdächtig. Rattratt verfolgt die Spuren eines Stiefels und einer Katzenfährte. Doch einfach ist der Fall nicht: kein Tatmotiv\, keine verwertbaren Zeugenaussagen. Da hilft ihm der Kater Sir Hinz auf die Sprünge und löst natürlich das Rätsel. \nDas Märchen „Der gestiefelte Kater“ ist hier für Kinder in einen Krimi verwandelt und für ein Orgelkonzert bearbeitet worden. Christiane Michel-Osterthun schrieb die Musik\, die wie bei „Peter und der Wolf“ für jede Hauptperson ein eigenes Thema hat. \nMit diesem musikalischen Märchen wird die Reihe „Orgelkonzerte für Kinder\, aber auch für erwachsene Leute“ im Rahmen des „Ferienspass“ in der St. Peter-und Pauls-Kirche in Rauenberg fortgesetzt\, dieses Jahr am Montag\, 3. August\, 15 Uhr. Als Kommissar wird ein findiger Sprecher verpflichtet\, die Orgel spielt Prof. Franz Wassermann.
URL:https://chor-an-st-peter-und-paul.de/event/orgelkonzert-fuer-grosse-und-kleine-leute-der-katzenkrimi/
LOCATION:Pfarrkirche St. Peter und Paul Rauenberg\, Wieslocher Str. 8\, Rauenberg\, 69231
CATEGORIES:Konzerte,Orgelmusik zur Marktzeit,Rauenberger Abendmusik,Veranstaltung
ATTACH;FMTTYPE=image/jpeg:https://chor-an-st-peter-und-paul.de/wp-content/uploads/2026/01/Der-Katzenkrimi_B3369_bearbeitet_V2.jpg
END:VEVENT
BEGIN:VEVENT
DTSTART;TZID=UTC:20260805T110000
DTEND;TZID=UTC:20260805T113000
DTSTAMP:20260424T095324
CREATED:20260104T131225Z
LAST-MODIFIED:20260104T131233Z
UID:2517-1785927600-1785929400@chor-an-st-peter-und-paul.de
SUMMARY:Orgelmusik zur Marktzeit
DESCRIPTION:
URL:https://chor-an-st-peter-und-paul.de/event/orgelmusik-zur-marktzeit-23/
LOCATION:Pfarrkirche St. Peter und Paul Rauenberg\, Wieslocher Str. 8\, Rauenberg\, 69231
CATEGORIES:Orgelmusik zur Marktzeit,Veranstaltung
ATTACH;FMTTYPE=image/jpeg:https://chor-an-st-peter-und-paul.de/wp-content/uploads/2023/05/Orgelmusik-zur-Marktzeit-16_9.jpg
END:VEVENT
BEGIN:VEVENT
DTSTART;TZID=UTC:20260831T193000
DTEND;TZID=UTC:20260831T204500
DTSTAMP:20260424T095324
CREATED:20260104T145504Z
LAST-MODIFIED:20260104T145505Z
UID:2575-1788204600-1788209100@chor-an-st-peter-und-paul.de
SUMMARY:Probe Gesamtchor
DESCRIPTION:erste Probe nach den Sommerferien
URL:https://chor-an-st-peter-und-paul.de/event/probe-gesamtchor-76/
LOCATION:Pfarrzentrum Rauenberg\, Hauptstr. 10\, Rauenberg\, 69231
CATEGORIES:Chorprobe,Gesamtchor
ATTACH;FMTTYPE=image/png:https://chor-an-st-peter-und-paul.de/wp-content/uploads/2023/04/6.png
END:VEVENT
BEGIN:VEVENT
DTSTART;TZID=UTC:20260831T204500
DTEND;TZID=UTC:20260831T214500
DTSTAMP:20260424T095324
CREATED:20260104T145346Z
LAST-MODIFIED:20260104T145346Z
UID:2573-1788209100-1788212700@chor-an-st-peter-und-paul.de
SUMMARY:Probe kleiner Chor “Allegro”
DESCRIPTION:erste Probe nach den Sommerferien
URL:https://chor-an-st-peter-und-paul.de/event/probe-kleiner-chor-allegro-74/
LOCATION:Pfarrzentrum Rauenberg\, Hauptstr. 10\, Rauenberg\, 69231
CATEGORIES:Allegro,Chorprobe
ATTACH;FMTTYPE=image/png:https://chor-an-st-peter-und-paul.de/wp-content/uploads/2023/04/4-1.png
END:VEVENT
END:VCALENDAR