BEGIN:VCALENDAR
VERSION:2.0
PRODID:-//Chor an St Peter und Paul Rauenberg - ECPv6.3.4//NONSGML v1.0//EN
CALSCALE:GREGORIAN
METHOD:PUBLISH
X-ORIGINAL-URL:https://chor-an-st-peter-und-paul.de
X-WR-CALDESC:Veranstaltungen für Chor an St Peter und Paul Rauenberg
REFRESH-INTERVAL;VALUE=DURATION:PT1H
X-Robots-Tag:noindex
X-PUBLISHED-TTL:PT1H
BEGIN:VTIMEZONE
TZID:UTC
BEGIN:STANDARD
TZOFFSETFROM:+0000
TZOFFSETTO:+0000
TZNAME:UTC
DTSTART:20260101T000000
END:STANDARD
END:VTIMEZONE
BEGIN:VEVENT
DTSTART;TZID=UTC:20260831T193000
DTEND;TZID=UTC:20260831T204500
DTSTAMP:20260424T114100
CREATED:20260104T145504Z
LAST-MODIFIED:20260104T145505Z
UID:2575-1788204600-1788209100@chor-an-st-peter-und-paul.de
SUMMARY:Probe Gesamtchor
DESCRIPTION:erste Probe nach den Sommerferien
URL:https://chor-an-st-peter-und-paul.de/event/probe-gesamtchor-76/
LOCATION:Pfarrzentrum Rauenberg\, Hauptstr. 10\, Rauenberg\, 69231
CATEGORIES:Chorprobe,Gesamtchor
ATTACH;FMTTYPE=image/png:https://chor-an-st-peter-und-paul.de/wp-content/uploads/2023/04/6.png
END:VEVENT
BEGIN:VEVENT
DTSTART;TZID=UTC:20260831T204500
DTEND;TZID=UTC:20260831T214500
DTSTAMP:20260424T114100
CREATED:20260104T145346Z
LAST-MODIFIED:20260104T145346Z
UID:2573-1788209100-1788212700@chor-an-st-peter-und-paul.de
SUMMARY:Probe kleiner Chor “Allegro”
DESCRIPTION:erste Probe nach den Sommerferien
URL:https://chor-an-st-peter-und-paul.de/event/probe-kleiner-chor-allegro-74/
LOCATION:Pfarrzentrum Rauenberg\, Hauptstr. 10\, Rauenberg\, 69231
CATEGORIES:Allegro,Chorprobe
ATTACH;FMTTYPE=image/png:https://chor-an-st-peter-und-paul.de/wp-content/uploads/2023/04/4-1.png
END:VEVENT
BEGIN:VEVENT
DTSTART;TZID=UTC:20260902T110000
DTEND;TZID=UTC:20260902T113000
DTSTAMP:20260424T114100
CREATED:20260104T131414Z
LAST-MODIFIED:20260104T131414Z
UID:2519-1788346800-1788348600@chor-an-st-peter-und-paul.de
SUMMARY:Orgelmusik zur Marktzeit
DESCRIPTION:
URL:https://chor-an-st-peter-und-paul.de/event/orgelmusik-zur-marktzeit-24/
LOCATION:Pfarrkirche St. Peter und Paul Rauenberg\, Wieslocher Str. 8\, Rauenberg\, 69231
CATEGORIES:Orgelmusik zur Marktzeit,Veranstaltung
ATTACH;FMTTYPE=image/jpeg:https://chor-an-st-peter-und-paul.de/wp-content/uploads/2023/05/Orgelmusik-zur-Marktzeit-16_9.jpg
END:VEVENT
BEGIN:VEVENT
DTSTART;TZID=UTC:20261007T110000
DTEND;TZID=UTC:20261007T113000
DTSTAMP:20260424T114100
CREATED:20260104T131524Z
LAST-MODIFIED:20260104T131524Z
UID:2521-1791370800-1791372600@chor-an-st-peter-und-paul.de
SUMMARY:Orgelmusik zur Marktzeit
DESCRIPTION:
URL:https://chor-an-st-peter-und-paul.de/event/orgelmusik-zur-marktzeit-25/
LOCATION:Pfarrkirche St. Peter und Paul Rauenberg\, Wieslocher Str. 8\, Rauenberg\, 69231
CATEGORIES:Orgelmusik zur Marktzeit,Veranstaltung
ATTACH;FMTTYPE=image/jpeg:https://chor-an-st-peter-und-paul.de/wp-content/uploads/2023/05/Orgelmusik-zur-Marktzeit-16_9.jpg
END:VEVENT
BEGIN:VEVENT
DTSTART;TZID=UTC:20261025T170000
DTEND;TZID=UTC:20261025T180000
DTSTAMP:20260424T114100
CREATED:20260104T132856Z
LAST-MODIFIED:20260125T145330Z
UID:2523-1792947600-1792951200@chor-an-st-peter-und-paul.de
SUMMARY:Rauenberger Abendmusik: Horn\, Alphorn & Orgel
DESCRIPTION:Horn\, Alphorn & Orgel\nWerke von J. S. Bach\, F. Körling\, L. Mozart u.a.\nThomas Crome\, Horn und Alphorn \nProf. Franz Wassermann\, Orgel
URL:https://chor-an-st-peter-und-paul.de/event/rauenberger-abendmusik-horn-alphorn-orgel/
LOCATION:Pfarrkirche St. Peter und Paul Rauenberg\, Wieslocher Str. 8\, Rauenberg\, 69231
CATEGORIES:Orgelmusik zur Marktzeit,Rauenberger Abendmusik,Veranstaltung
ATTACH;FMTTYPE=image/jpeg:https://chor-an-st-peter-und-paul.de/wp-content/uploads/2026/01/Fotos-fuer-Website_Alphorn-und-Orgel_zugeschnitten.jpg
END:VEVENT
BEGIN:VEVENT
DTSTART;TZID=UTC:20261104T110000
DTEND;TZID=UTC:20261104T113000
DTSTAMP:20260424T114100
CREATED:20260104T142150Z
LAST-MODIFIED:20260104T142417Z
UID:2534-1793790000-1793791800@chor-an-st-peter-und-paul.de
SUMMARY:Orgelmusik zur Marktzeit
DESCRIPTION:
URL:https://chor-an-st-peter-und-paul.de/event/orgelmusik-zur-marktzeit-26/
LOCATION:Pfarrkirche St. Peter und Paul Rauenberg\, Wieslocher Str. 8\, Rauenberg\, 69231
CATEGORIES:Orgelmusik zur Marktzeit,Veranstaltung
ATTACH;FMTTYPE=image/jpeg:https://chor-an-st-peter-und-paul.de/wp-content/uploads/2023/05/Orgelmusik-zur-Marktzeit-16_9.jpg
END:VEVENT
BEGIN:VEVENT
DTSTART;TZID=UTC:20261202T110000
DTEND;TZID=UTC:20261202T113000
DTSTAMP:20260424T114100
CREATED:20260104T142253Z
LAST-MODIFIED:20260104T142253Z
UID:2536-1796209200-1796211000@chor-an-st-peter-und-paul.de
SUMMARY:Orgelmusik zur Marktzeit
DESCRIPTION:
URL:https://chor-an-st-peter-und-paul.de/event/orgelmusik-zur-marktzeit-27/
LOCATION:Pfarrkirche St. Peter und Paul Rauenberg\, Wieslocher Str. 8\, Rauenberg\, 69231
CATEGORIES:Orgelmusik zur Marktzeit,Veranstaltung
ATTACH;FMTTYPE=image/jpeg:https://chor-an-st-peter-und-paul.de/wp-content/uploads/2023/05/Orgelmusik-zur-Marktzeit-16_9.jpg
END:VEVENT
BEGIN:VEVENT
DTSTART;TZID=UTC:20261212T170000
DTEND;TZID=UTC:20261212T180000
DTSTAMP:20260424T114100
CREATED:20260104T133741Z
LAST-MODIFIED:20260111T115527Z
UID:2526-1797094800-1797098400@chor-an-st-peter-und-paul.de
SUMMARY:Rauenberger Abendmusik: Musica Latinoamericana de Navidad
DESCRIPTION:Musica Latinoamericana de Navidad     \nVokales Ensemble GSG9 der Capella Carolina\, Universität Heidelberg \nCantomanie\, Chor der Medizinischen Fakultät Mannheim der Universität Heidelberg \nGrupo Conza\, Peru \nLeitung: Prof. Franz Wassermann
URL:https://chor-an-st-peter-und-paul.de/event/rauenberger-abendmusik-weihnachtslieder-aus-lateinamerika/
LOCATION:Pfarrkirche St. Peter und Paul Rauenberg\, Wieslocher Str. 8\, Rauenberg\, 69231
CATEGORIES:Konzerte,Orgelmusik zur Marktzeit,Rauenberger Abendmusik,Veranstaltung
ATTACH;FMTTYPE=image/jpeg:https://chor-an-st-peter-und-paul.de/wp-content/uploads/2026/01/Rbrg_Weihnachtsmarkt_2025_137_fuer-Website-Rauenberg.jpg
END:VEVENT
BEGIN:VEVENT
DTSTART;TZID=UTC:20270103T170000
DTEND;TZID=UTC:20270103T180000
DTSTAMP:20260424T114100
CREATED:20260104T134339Z
LAST-MODIFIED:20260128T221056Z
UID:2529-1798995600-1798999200@chor-an-st-peter-und-paul.de
SUMMARY:Rauenberger Abendmusik: Festliches Konzert zum Neuen Jahr mit Pauken und Trompeten
DESCRIPTION:Festliches Konzert zum Neuen Jahr mit Pauken und Trompeten\nDie Tradition der beliebten Neujahrskonzerte in der Pfarrkirche St. Peter und Paul Rauenberg wird auch 2026 weitergeführt: Am ersten Sonntag des neuen Jahres\, am Sonntag\, 3. 1. 2027 um 17 Uhr wird es glanzvolle Musik zum Jahreswechsel geben. Berühmte Werke Bachs\, Händels\, Telemanns und anderer Barockkomponisten werden erklingen\, aber auch beliebte Werke moderner Komponisten. Der Trompetenvirtuose Benedikt Scherrer spielt auf der Barocktrompete\, der Trompete und dem Flügelhorn\, Ulrich Dürr schlägt die Pauken\, und Professor Franz Wassermann spielt die Große Orgel der Rauenberger Kirche. \nErfreulicherweise ist der Eintritt frei\, doch Spenden werden keinesfalls zurückgewiesen. \nGenießen Sie den strahlenden Bläserklang\, die Wucht der Pauken und die Majestät der Orgel!
URL:https://chor-an-st-peter-und-paul.de/event/rauenberger-abendmusik-festliches-konzert-zum-neuen-jahr-mit-pauken-und-trompeten/
LOCATION:Pfarrkirche St. Peter und Paul Rauenberg\, Wieslocher Str. 8\, Rauenberg\, 69231
CATEGORIES:Konzerte,Rauenberger Abendmusik,Veranstaltung
ATTACH;FMTTYPE=image/jpeg:https://chor-an-st-peter-und-paul.de/wp-content/uploads/2026/01/Fotos-fuer-Website-in-PPP_zugeschnitten.jpg
END:VEVENT
END:VCALENDAR